Package: DirichletMultinomial Version: 1.53.0 Command: /home/biocbuild/bbs-3.23-bioc/R/bin/R CMD INSTALL DirichletMultinomial StartedAt: 2025-11-05 15:21:07 -0500 (Wed, 05 Nov 2025) EndedAt: 2025-11-05 15:21:15 -0500 (Wed, 05 Nov 2025) EllapsedTime: 7.9 seconds RetCode: 0 Status: OK