Package: Director Version: 1.33.1 Command: chmod a+r Director -R && F:\biocbuild\bbs-3.22-bioc\R\bin\R.exe CMD build --keep-empty-dirs --no-resave-data Director StartedAt: 2025-04-08 18:45:22 -0400 (Tue, 08 Apr 2025) EndedAt: 2025-04-08 19:25:23 -0400 (Tue, 08 Apr 2025) EllapsedTime: 2400.9 seconds RetCode: None Status: TIMEOUT PackageFile: None PackageFileSize: NA