Package: Dino Version: 1.13.0 Command: /Library/Frameworks/R.framework/Resources/bin/R CMD INSTALL Dino StartedAt: 2025-02-03 15:45:25 -0500 (Mon, 03 Feb 2025) EndedAt: 2025-02-03 15:46:17 -0500 (Mon, 03 Feb 2025) EllapsedTime: 52.5 seconds RetCode: 0 Status: OK