Package: Dino Version: 1.13.0 Command: /Library/Frameworks/R.framework/Resources/bin/R CMD build --keep-empty-dirs --no-resave-data Dino StartedAt: 2025-02-03 16:36:55 -0500 (Mon, 03 Feb 2025) EndedAt: 2025-02-03 16:38:52 -0500 (Mon, 03 Feb 2025) EllapsedTime: 116.6 seconds RetCode: 0 Status: OK PackageFile: Dino_1.13.0.tar.gz PackageFileSize: 1.529 MiB