Package: Dino Version: 1.13.0 Maintainer: Jared Brown MaintainerEmail: brownj at ds.dfci.harvard.edu git_url: https://git.bioconductor.org/packages/Dino git_branch: devel git_last_commit: 8abb017 git_last_commit_date: 2024-10-29 11:01:57 -0500 (Tue, 29 Oct 2024)