Package: DifferentialRegulation Version: 2.7.0 Command: rm -rf DifferentialRegulation.buildbin-libdir && mkdir DifferentialRegulation.buildbin-libdir && F:\biocbuild\bbs-3.22-bioc\R\bin\R.exe CMD INSTALL --build --library=DifferentialRegulation.buildbin-libdir DifferentialRegulation_2.7.0.tar.gz StartedAt: 2025-08-15 10:09:26 -0400 (Fri, 15 Aug 2025) EndedAt: 2025-08-15 10:12:02 -0400 (Fri, 15 Aug 2025) EllapsedTime: 156.1 seconds RetCode: 0 Status: OK PackageFile: DifferentialRegulation_2.7.0.zip PackageFileSize: 2.858 MiB