Package: DiffLogo Version: 2.33.0 Command: rm -rf DiffLogo.buildbin-libdir && mkdir DiffLogo.buildbin-libdir && F:\biocbuild\bbs-3.22-bioc\R\bin\R.exe CMD INSTALL --build --library=DiffLogo.buildbin-libdir DiffLogo_2.33.0.tar.gz StartedAt: 2025-08-15 10:09:39 -0400 (Fri, 15 Aug 2025) EndedAt: 2025-08-15 10:10:02 -0400 (Fri, 15 Aug 2025) EllapsedTime: 23.2 seconds RetCode: 0 Status: OK PackageFile: DiffLogo_2.33.0.zip PackageFileSize: 978.4 KiB