Package: DiffLogo Version: 2.33.0 Command: /Library/Frameworks/R.framework/Resources/bin/R CMD INSTALL DiffLogo StartedAt: 2025-05-06 15:04:18 -0400 (Tue, 06 May 2025) EndedAt: 2025-05-06 15:05:03 -0400 (Tue, 06 May 2025) EllapsedTime: 45.4 seconds RetCode: 0 Status: OK