Package: DiffBind Version: 3.17.3 Command: chmod a+r DiffBind -R && E:\biocbuild\bbs-3.21-bioc\R\bin\R.exe CMD build --keep-empty-dirs --no-resave-data DiffBind StartedAt: 2025-01-31 18:11:54 -0500 (Fri, 31 Jan 2025) EndedAt: 2025-01-31 18:17:07 -0500 (Fri, 31 Jan 2025) EllapsedTime: 312.8 seconds RetCode: 0 Status: OK PackageFile: DiffBind_3.17.3.tar.gz PackageFileSize: 6.49 MiB