Package: DiffBind Version: 3.17.3 Command: rm -rf DiffBind.buildbin-libdir && mkdir DiffBind.buildbin-libdir && E:\biocbuild\bbs-3.21-bioc\R\bin\R.exe CMD INSTALL --build --library=DiffBind.buildbin-libdir DiffBind_3.17.3.tar.gz StartedAt: 2025-02-01 07:05:28 -0500 (Sat, 01 Feb 2025) EndedAt: 2025-02-01 07:07:49 -0500 (Sat, 01 Feb 2025) EllapsedTime: 141.3 seconds RetCode: 0 Status: OK PackageFile: DiffBind_3.17.3.zip PackageFileSize: 11.57 MiB