Package: DiffBind Version: 3.19.0 Command: /Library/Frameworks/R.framework/Resources/bin/R CMD check --install=check:DiffBind.install-out.txt --library=/Library/Frameworks/R.framework/Resources/library --no-vignettes --timings DiffBind_3.19.0.tar.gz StartedAt: 2025-04-30 20:14:29 -0400 (Wed, 30 Apr 2025) EndedAt: 2025-04-30 20:25:22 -0400 (Wed, 30 Apr 2025) EllapsedTime: 652.8 seconds RetCode: 0 Status: OK CheckDir: DiffBind.Rcheck Warnings: 0