Package: DiffBind Version: 3.19.0 Command: /Library/Frameworks/R.framework/Resources/bin/R CMD INSTALL DiffBind StartedAt: 2025-05-09 15:28:33 -0400 (Fri, 09 May 2025) EndedAt: 2025-05-09 15:29:05 -0400 (Fri, 09 May 2025) EllapsedTime: 31.6 seconds RetCode: 0 Status: OK