Package: DiffBind Version: 3.19.0 Command: /Library/Frameworks/R.framework/Resources/bin/R CMD build --keep-empty-dirs --no-resave-data DiffBind StartedAt: 2025-05-18 16:04:57 -0400 (Sun, 18 May 2025) EndedAt: 2025-05-18 16:06:17 -0400 (Sun, 18 May 2025) EllapsedTime: 80.9 seconds RetCode: 0 Status: OK PackageFile: DiffBind_3.19.0.tar.gz PackageFileSize: 6.485 MiB