Package: DepecheR Version: 1.25.0 Command: /Library/Frameworks/R.framework/Resources/bin/R CMD INSTALL DepecheR StartedAt: 2025-05-06 15:11:12 -0400 (Tue, 06 May 2025) EndedAt: 2025-05-06 15:11:44 -0400 (Tue, 06 May 2025) EllapsedTime: 31.7 seconds RetCode: 0 Status: OK