Package: DepecheR Version: 1.25.0 Command: /Library/Frameworks/R.framework/Resources/bin/R CMD check --install=check:DepecheR.install-out.txt --library=/Library/Frameworks/R.framework/Resources/library --no-vignettes --timings DepecheR_1.25.0.tar.gz StartedAt: 2025-05-07 20:14:55 -0400 (Wed, 07 May 2025) EndedAt: 2025-05-07 20:17:49 -0400 (Wed, 07 May 2025) EllapsedTime: 173.4 seconds RetCode: 0 Status: OK CheckDir: DepecheR.Rcheck Warnings: 0