Package: DepecheR Version: 1.25.0 Command: /Library/Frameworks/R.framework/Resources/bin/R CMD build --keep-empty-dirs --no-resave-data DepecheR StartedAt: 2025-05-08 16:34:08 -0400 (Thu, 08 May 2025) EndedAt: 2025-05-08 16:35:09 -0400 (Thu, 08 May 2025) EllapsedTime: 61.8 seconds RetCode: 0 Status: OK PackageFile: DepecheR_1.25.0.tar.gz PackageFileSize: 2.561 MiB