Package: DepecheR Version: 1.25.0 Command: rm -rf DepecheR.buildbin-libdir && mkdir DepecheR.buildbin-libdir && /Users/biocbuild/BBS/utils/build-universal.sh DepecheR_1.25.0.tar.gz /Library/Frameworks/R.framework/Resources/bin/R DepecheR.buildbin-libdir StartedAt: 2025-05-09 00:41:11 -0400 (Fri, 09 May 2025) EndedAt: 2025-05-09 00:41:50 -0400 (Fri, 09 May 2025) EllapsedTime: 39.4 seconds RetCode: 0 Status: OK PackageFile: DepecheR_1.25.0.tgz PackageFileSize: 2.747 MiB