Package: DepecheR Version: 1.25.0 Maintainer: Jakob Theorell MaintainerEmail: jakob.theorell at ki.se git_url: https://git.bioconductor.org/packages/DepecheR git_branch: devel git_last_commit: 2d3858c git_last_commit_date: 2025-04-15 11:42:09 -0400 (Tue, 15 Apr 2025)