Package: DelayedTensor Version: 1.15.0 Command: /home/biocbuild/bbs-3.22-bioc/R/bin/R CMD INSTALL DelayedTensor StartedAt: 2025-07-21 15:59:16 -0400 (Mon, 21 Jul 2025) EndedAt: 2025-07-21 15:59:44 -0400 (Mon, 21 Jul 2025) EllapsedTime: 28.8 seconds RetCode: 0 Status: OK