Package: DelayedTensor Version: 1.15.0 Command: /home/biocbuild/bbs-3.22-bioc/R/bin/R CMD check --install=check:DelayedTensor.install-out.txt --library=/home/biocbuild/bbs-3.22-bioc/R/site-library --timings DelayedTensor_1.15.0.tar.gz StartedAt: 2025-09-30 23:04:01 -0400 (Tue, 30 Sep 2025) EndedAt: 2025-09-30 23:13:42 -0400 (Tue, 30 Sep 2025) EllapsedTime: 581.6 seconds RetCode: 0 Status: WARNINGS CheckDir: DelayedTensor.Rcheck Warnings: 2