Package: DelayedMatrixStats Version: 1.31.0 Command: /home/biocbuild/bbs-3.22-bioc/R/bin/R CMD INSTALL DelayedMatrixStats StartedAt: 2025-07-15 15:15:12 -0400 (Tue, 15 Jul 2025) EndedAt: 2025-07-15 15:15:31 -0400 (Tue, 15 Jul 2025) EllapsedTime: 19.4 seconds RetCode: 0 Status: OK