Package: DelayedMatrixStats Version: 1.31.0 Command: /home/biocbuild/bbs-3.22-bioc/R/bin/R CMD build --keep-empty-dirs --no-resave-data --md5 DelayedMatrixStats StartedAt: 2025-07-15 16:53:26 -0400 (Tue, 15 Jul 2025) EndedAt: 2025-07-15 16:57:42 -0400 (Tue, 15 Jul 2025) EllapsedTime: 256.2 seconds RetCode: 0 Status: OK PackageFile: DelayedMatrixStats_1.31.0.tar.gz PackageFileSize: 267.9 KiB