Package: DelayedDataFrame Version: 1.23.0 Command: chmod a+r DelayedDataFrame -R && E:\biocbuild\bbs-3.21-bioc\R\bin\R.exe CMD build --keep-empty-dirs --no-resave-data DelayedDataFrame StartedAt: 2025-02-03 18:28:24 -0500 (Mon, 03 Feb 2025) EndedAt: 2025-02-03 18:29:14 -0500 (Mon, 03 Feb 2025) EllapsedTime: 50.0 seconds RetCode: 0 Status: OK PackageFile: DelayedDataFrame_1.23.0.tar.gz PackageFileSize: 486.7 KiB