Package: DelayedDataFrame Version: 1.25.0 Command: /home/biocbuild/bbs-3.22-bioc/R/bin/R CMD INSTALL DelayedDataFrame StartedAt: 2025-07-16 15:24:49 -0400 (Wed, 16 Jul 2025) EndedAt: 2025-07-16 15:25:12 -0400 (Wed, 16 Jul 2025) EllapsedTime: 22.4 seconds RetCode: 0 Status: OK