Package: DelayedDataFrame Version: 1.25.0 Command: /home/biocbuild/bbs-3.22-bioc/R/bin/R CMD build --keep-empty-dirs --no-resave-data --md5 DelayedDataFrame StartedAt: 2025-07-16 17:07:59 -0400 (Wed, 16 Jul 2025) EndedAt: 2025-07-16 17:08:28 -0400 (Wed, 16 Jul 2025) EllapsedTime: 29.0 seconds RetCode: 0 Status: OK PackageFile: DelayedDataFrame_1.25.0.tar.gz PackageFileSize: 487.6 KiB