Package: DelayedDataFrame Version: 1.25.0 Command: /Library/Frameworks/R.framework/Resources/bin/R CMD INSTALL DelayedDataFrame StartedAt: 2025-05-05 15:16:03 -0400 (Mon, 05 May 2025) EndedAt: 2025-05-05 15:16:28 -0400 (Mon, 05 May 2025) EllapsedTime: 25.3 seconds RetCode: 0 Status: OK