Package: DegNorm Version: 1.19.1 Command: /home/biocbuild/bbs-3.22-bioc/R/bin/R CMD INSTALL DegNorm StartedAt: 2025-10-01 15:46:43 -0400 (Wed, 01 Oct 2025) EndedAt: 2025-10-01 15:48:01 -0400 (Wed, 01 Oct 2025) EllapsedTime: 78.6 seconds RetCode: 0 Status: OK