Package: DegNorm Version: 1.17.0 Command: /home/biocbuild/R/R/bin/R CMD build --keep-empty-dirs --no-resave-data DegNorm StartedAt: 2025-01-10 22:29:05 -0000 (Fri, 10 Jan 2025) EndedAt: 2025-01-10 22:36:00 -0000 (Fri, 10 Jan 2025) EllapsedTime: 415.1 seconds RetCode: 0 Status: OK PackageFile: DegNorm_1.17.0.tar.gz PackageFileSize: 3.823 MiB