Package: DegCre Version: 1.5.1 Command: /home/biocbuild/bbs-3.22-bioc/R/bin/R CMD INSTALL DegCre StartedAt: 2025-10-06 15:41:18 -0400 (Mon, 06 Oct 2025) EndedAt: 2025-10-06 15:42:00 -0400 (Mon, 06 Oct 2025) EllapsedTime: 41.8 seconds RetCode: 0 Status: OK