Package: DegCre Version: 1.5.1 Command: /home/biocbuild/bbs-3.22-bioc/R/bin/R CMD build --keep-empty-dirs --no-resave-data --md5 DegCre StartedAt: 2025-10-06 17:13:07 -0400 (Mon, 06 Oct 2025) EndedAt: 2025-10-06 17:14:31 -0400 (Mon, 06 Oct 2025) EllapsedTime: 84.1 seconds RetCode: 0 Status: OK PackageFile: DegCre_1.5.1.tar.gz PackageFileSize: 2.294 MiB