Package: DegCre Version: 1.3.0 Command: /home/biocbuild/bbs-3.21-bioc/R/bin/R CMD INSTALL DegCre StartedAt: 2025-02-03 15:50:22 -0500 (Mon, 03 Feb 2025) EndedAt: 2025-02-03 15:51:04 -0500 (Mon, 03 Feb 2025) EllapsedTime: 42.0 seconds RetCode: 0 Status: OK