Package: DegCre Version: 1.3.0 Maintainer: Brian S. Roberts MaintainerEmail: brianroberts1976 at yahoo.com git_url: https://git.bioconductor.org/packages/DegCre git_branch: devel git_last_commit: 0bf1459 git_last_commit_date: 2024-12-13 16:10:45 -0500 (Fri, 13 Dec 2024)