Package: DeepTarget Version: 1.3.0 Command: rm -rf DeepTarget.buildbin-libdir && mkdir DeepTarget.buildbin-libdir && F:\biocbuild\bbs-3.22-bioc\R\bin\R.exe CMD INSTALL --build --library=DeepTarget.buildbin-libdir DeepTarget_1.3.0.tar.gz StartedAt: 2025-08-15 10:06:55 -0400 (Fri, 15 Aug 2025) EndedAt: 2025-08-15 10:07:34 -0400 (Fri, 15 Aug 2025) EllapsedTime: 38.8 seconds RetCode: 0 Status: OK PackageFile: DeepTarget_1.3.0.zip PackageFileSize: 2.383 MiB