Package: DeepTarget Version: 1.1.0 Command: /home/biocbuild/bbs-3.21-bioc/R/bin/R CMD check --install=check:DeepTarget.install-out.txt --library=/home/biocbuild/bbs-3.21-bioc/R/site-library --timings DeepTarget_1.1.0.tar.gz StartedAt: 2025-02-04 21:32:25 -0500 (Tue, 04 Feb 2025) EndedAt: 2025-02-04 21:37:01 -0500 (Tue, 04 Feb 2025) EllapsedTime: 276.2 seconds RetCode: 0 Status: OK CheckDir: DeepTarget.Rcheck Warnings: 0