Package: DeepTarget Version: 1.1.0 Command: /home/biocbuild/R/R/bin/R CMD INSTALL DeepTarget StartedAt: 2025-01-29 20:33:13 -0000 (Wed, 29 Jan 2025) EndedAt: 2025-01-29 20:33:42 -0000 (Wed, 29 Jan 2025) EllapsedTime: 28.8 seconds RetCode: 0 Status: OK