Package: DeepTarget Version: 1.3.0 Command: /Library/Frameworks/R.framework/Resources/bin/R CMD build --keep-empty-dirs --no-resave-data DeepTarget StartedAt: 2025-05-01 16:07:07 -0400 (Thu, 01 May 2025) EndedAt: 2025-05-01 16:07:25 -0400 (Thu, 01 May 2025) EllapsedTime: 18.2 seconds RetCode: 0 Status: OK PackageFile: DeepTarget_1.3.0.tar.gz PackageFileSize: 2.776 MiB