Package: DeepPINCS Version: 1.17.0 Command: /home/biocbuild/R/R/bin/R CMD INSTALL DeepPINCS StartedAt: 2025-10-09 21:03:57 -0000 (Thu, 09 Oct 2025) EndedAt: 2025-10-09 21:04:16 -0000 (Thu, 09 Oct 2025) EllapsedTime: 19.1 seconds RetCode: 0 Status: OK