Package: DeepPINCS Version: 1.15.0 Command: E:\biocbuild\bbs-3.21-bioc\R\bin\R.exe CMD INSTALL DeepPINCS StartedAt: 2025-02-04 16:57:13 -0500 (Tue, 04 Feb 2025) EndedAt: 2025-02-04 16:57:42 -0500 (Tue, 04 Feb 2025) EllapsedTime: 29.2 seconds RetCode: 0 Status: OK