Package: DeepPINCS Version: 1.15.0 Command: chmod a+r DeepPINCS -R && E:\biocbuild\bbs-3.21-bioc\R\bin\R.exe CMD build --keep-empty-dirs --no-resave-data DeepPINCS StartedAt: 2025-02-04 18:13:10 -0500 (Tue, 04 Feb 2025) EndedAt: 2025-02-04 18:15:44 -0500 (Tue, 04 Feb 2025) EllapsedTime: 154.4 seconds RetCode: 1 Status: ERROR PackageFile: None PackageFileSize: NA