Package: DeepPINCS Version: 1.17.0 Command: /home/biocbuild/bbs-3.22-bioc/R/bin/R CMD check --install=check:DeepPINCS.install-out.txt --library=/home/biocbuild/bbs-3.22-bioc/R/site-library --timings DeepPINCS_1.17.0.tar.gz StartedAt: 2025-10-22 23:01:03 -0400 (Wed, 22 Oct 2025) EndedAt: 2025-10-22 23:02:26 -0400 (Wed, 22 Oct 2025) EllapsedTime: 83.1 seconds RetCode: 0 Status: OK CheckDir: DeepPINCS.Rcheck Warnings: 0