Package: DeepPINCS Version: 1.15.0 Command: /home/biocbuild/bbs-3.21-bioc/R/bin/R CMD INSTALL DeepPINCS StartedAt: 2025-02-04 15:09:55 -0500 (Tue, 04 Feb 2025) EndedAt: 2025-02-04 15:10:11 -0500 (Tue, 04 Feb 2025) EllapsedTime: 16.0 seconds RetCode: 0 Status: OK