Package: DeepPINCS Version: 1.15.0 Command: /home/biocbuild/bbs-3.21-bioc/R/bin/R CMD check --install=check:DeepPINCS.install-out.txt --library=/home/biocbuild/bbs-3.21-bioc/R/site-library --timings DeepPINCS_1.15.0.tar.gz StartedAt: 2025-02-04 21:32:16 -0500 (Tue, 04 Feb 2025) EndedAt: 2025-02-04 21:34:02 -0500 (Tue, 04 Feb 2025) EllapsedTime: 106.1 seconds RetCode: 0 Status: OK CheckDir: DeepPINCS.Rcheck Warnings: 0