Package: DeepPINCS Version: 1.15.0 Command: /home/biocbuild/bbs-3.21-bioc/R/bin/R CMD build --keep-empty-dirs --no-resave-data DeepPINCS StartedAt: 2025-02-04 16:53:24 -0500 (Tue, 04 Feb 2025) EndedAt: 2025-02-04 16:53:51 -0500 (Tue, 04 Feb 2025) EllapsedTime: 27.0 seconds RetCode: 0 Status: OK PackageFile: DeepPINCS_1.15.0.tar.gz PackageFileSize: 2.438 MiB