Package: DeepPINCS Version: 1.15.0 Command: /Library/Frameworks/R.framework/Resources/bin/R CMD check --install=check:DeepPINCS.install-out.txt --library=/Library/Frameworks/R.framework/Resources/library --no-vignettes --timings DeepPINCS_1.15.0.tar.gz StartedAt: 2024-11-24 21:10:18 -0500 (Sun, 24 Nov 2024) EndedAt: 2024-11-24 21:16:39 -0500 (Sun, 24 Nov 2024) EllapsedTime: 380.7 seconds RetCode: 0 Status: OK CheckDir: DeepPINCS.Rcheck Warnings: 0