Package: DeepPINCS Version: 1.15.0 Command: /Library/Frameworks/R.framework/Resources/bin/R CMD build --keep-empty-dirs --no-resave-data DeepPINCS StartedAt: 2025-02-04 16:26:22 -0500 (Tue, 04 Feb 2025) EndedAt: 2025-02-04 16:27:34 -0500 (Tue, 04 Feb 2025) EllapsedTime: 72.2 seconds RetCode: 1 Status: ERROR PackageFile: None PackageFileSize: NA