Package: DeepPINCS Version: 1.15.0 Command: rm -rf DeepPINCS.buildbin-libdir && mkdir DeepPINCS.buildbin-libdir && /Users/biocbuild/BBS/utils/build-universal.sh DeepPINCS_1.15.0.tar.gz /Library/Frameworks/R.framework/Resources/bin/R DeepPINCS.buildbin-libdir StartedAt: 2024-11-25 03:55:40 -0500 (Mon, 25 Nov 2024) EndedAt: 2024-11-25 03:56:08 -0500 (Mon, 25 Nov 2024) EllapsedTime: 28.2 seconds RetCode: 0 Status: OK PackageFile: DeepPINCS_1.15.0.tgz PackageFileSize: 2.91 MiB