Package: DeepPINCS Version: 1.15.0 Command: /home/biocbuild/R/R/bin/R CMD build --keep-empty-dirs --no-resave-data DeepPINCS StartedAt: 2025-01-28 22:19:19 -0000 (Tue, 28 Jan 2025) EndedAt: 2025-01-28 22:19:57 -0000 (Tue, 28 Jan 2025) EllapsedTime: 38.0 seconds RetCode: 0 Status: OK PackageFile: DeepPINCS_1.15.0.tar.gz PackageFileSize: 2.464 MiB