Package: DeeDeeExperiment Version: 1.1.0 Command: /home/biocbuild/bbs-3.23-bioc/R/bin/R CMD INSTALL DeeDeeExperiment StartedAt: 2025-11-13 15:21:53 -0500 (Thu, 13 Nov 2025) EndedAt: 2025-11-13 15:22:23 -0500 (Thu, 13 Nov 2025) EllapsedTime: 29.8 seconds RetCode: 0 Status: OK