Package: DeeDeeExperiment Version: 1.1.0 Command: /home/biocbuild/bbs-3.23-bioc/R/bin/R CMD build --keep-empty-dirs --no-resave-data DeeDeeExperiment StartedAt: 2025-11-13 17:10:39 -0500 (Thu, 13 Nov 2025) EndedAt: 2025-11-13 17:11:40 -0500 (Thu, 13 Nov 2025) EllapsedTime: 61.0 seconds RetCode: 0 Status: OK PackageFile: DeeDeeExperiment_1.1.0.tar.gz PackageFileSize: 4.503 MiB