Package: DeeDeeExperiment Version: 0.99.5 Command: /Library/Frameworks/R.framework/Resources/bin/R CMD build --keep-empty-dirs --no-resave-data DeeDeeExperiment StartedAt: 2025-10-24 16:47:26 -0400 (Fri, 24 Oct 2025) EndedAt: 2025-10-24 16:48:46 -0400 (Fri, 24 Oct 2025) EllapsedTime: 80.1 seconds RetCode: 0 Status: OK PackageFile: DeeDeeExperiment_0.99.5.tar.gz PackageFileSize: 4.503 MiB